BEGIN:VCALENDAR
VERSION:2.0
PRODID:-//SportsPilot + Skyline Soccer Association/
METHOD:PUBLISH
BEGIN:VEVENT
UID:1960003
DTSTAMP:20260423T000700Z
SUMMARY: Game:1960003: RSL VS Tiger SC
DESCRIPTION: Location: Skyline Indoor / Whole Facility
DTSTART:20221214T043500Z
DTEND:20221214T052000Z
END:VEVENT
BEGIN:VEVENT
UID:1960006
DTSTAMP:20260423T000700Z
SUMMARY: Game:1960006: Tiger SC VS Toro Rosso
DESCRIPTION: Location: Skyline Indoor / Whole Facility
DTSTART:20221221T035000Z
DTEND:20221221T043500Z
END:VEVENT
BEGIN:VEVENT
UID:1960009
DTSTAMP:20260423T000700Z
SUMMARY: Game:1960009: Tiger SC VS Millionairos FC
DESCRIPTION: Location: Skyline Indoor / Whole Facility
DTSTART:20230104T030500Z
DTEND:20230104T035000Z
END:VEVENT
BEGIN:VEVENT
UID:1960016
DTSTAMP:20260423T000700Z
SUMMARY: Game:1960016: Tiger SC VS We play better drunk
DESCRIPTION: Location: Skyline Indoor / Whole Facility
DTSTART:20230111T052000Z
DTEND:20230111T060500Z
END:VEVENT
BEGIN:VEVENT
UID:1960018
DTSTAMP:20260423T000700Z
SUMMARY: Game:1960018: Six on the Beach VS Tiger SC
DESCRIPTION: Location: Skyline Indoor / Whole Facility
DTSTART:20230118T035000Z
DTEND:20230118T043500Z
END:VEVENT
BEGIN:VEVENT
UID:1960024
DTSTAMP:20260423T000700Z
SUMMARY: Game:1960024: DEPO Denver VS Tiger SC
DESCRIPTION: Location: Skyline Indoor / Whole Facility
DTSTART:20230125T052000Z
DTEND:20230125T060500Z
END:VEVENT
END:VCALENDAR
