BEGIN:VCALENDAR
VERSION:2.0
PRODID:-//SportsPilot + Skyline Soccer Association/
METHOD:PUBLISH
BEGIN:VEVENT
UID:1960002
DTSTAMP:20260422T235500Z
SUMMARY: Game:1960002: We play better drunk VS Six on the Beach
DESCRIPTION: Location: Skyline Indoor / Whole Facility
DTSTART:20221214T035000Z
DTEND:20221214T043500Z
END:VEVENT
BEGIN:VEVENT
UID:1960008
DTSTAMP:20260422T235500Z
SUMMARY: Game:1960008: We play better drunk VS DEPO Denver
DESCRIPTION: Location: Skyline Indoor / Whole Facility
DTSTART:20221221T052000Z
DTEND:20221221T060500Z
END:VEVENT
BEGIN:VEVENT
UID:1960010
DTSTAMP:20260422T235500Z
SUMMARY: Game:1960010: Fenix VS We play better drunk
DESCRIPTION: Location: Skyline Indoor / Whole Facility
DTSTART:20230104T035000Z
DTEND:20230104T043500Z
END:VEVENT
BEGIN:VEVENT
UID:1960016
DTSTAMP:20260422T235500Z
SUMMARY: Game:1960016: Tiger SC VS We play better drunk
DESCRIPTION: Location: Skyline Indoor / Whole Facility
DTSTART:20230111T052000Z
DTEND:20230111T060500Z
END:VEVENT
BEGIN:VEVENT
UID:1960020
DTSTAMP:20260422T235500Z
SUMMARY: Game:1960020: RSL VS We play better drunk
DESCRIPTION: Location: Skyline Indoor / Whole Facility
DTSTART:20230118T052000Z
DTEND:20230118T060500Z
END:VEVENT
BEGIN:VEVENT
UID:1960022
DTSTAMP:20260422T235500Z
SUMMARY: Game:1960022: Toro Rosso VS We play better drunk
DESCRIPTION: Location: Skyline Indoor / Whole Facility
DTSTART:20230125T035000Z
DTEND:20230125T043500Z
END:VEVENT
END:VCALENDAR
