BEGIN:VCALENDAR
VERSION:2.0
PRODID:-//SportsPilot + Skyline Soccer Association/
METHOD:PUBLISH
BEGIN:VEVENT
UID:1960003
DTSTAMP:20260423T000300Z
SUMMARY: Game:1960003: RSL VS Tiger SC
DESCRIPTION: Location: Skyline Indoor / Whole Facility
DTSTART:20221214T043500Z
DTEND:20221214T052000Z
END:VEVENT
BEGIN:VEVENT
UID:1960007
DTSTAMP:20260423T000300Z
SUMMARY: Game:1960007: Fenix VS RSL
DESCRIPTION: Location: Skyline Indoor / Whole Facility
DTSTART:20221221T043500Z
DTEND:20221221T052000Z
END:VEVENT
BEGIN:VEVENT
UID:1960011
DTSTAMP:20260423T000300Z
SUMMARY: Game:1960011: DEPO Denver VS RSL
DESCRIPTION: Location: Skyline Indoor / Whole Facility
DTSTART:20230104T043500Z
DTEND:20230104T052000Z
END:VEVENT
BEGIN:VEVENT
UID:1960015
DTSTAMP:20260423T000300Z
SUMMARY: Game:1960015: Six on the Beach VS RSL
DESCRIPTION: Location: Skyline Indoor / Whole Facility
DTSTART:20230111T043500Z
DTEND:20230111T052000Z
END:VEVENT
BEGIN:VEVENT
UID:1960020
DTSTAMP:20260423T000300Z
SUMMARY: Game:1960020: RSL VS We play better drunk
DESCRIPTION: Location: Skyline Indoor / Whole Facility
DTSTART:20230118T052000Z
DTEND:20230118T060500Z
END:VEVENT
BEGIN:VEVENT
UID:1960023
DTSTAMP:20260423T000300Z
SUMMARY: Game:1960023: RSL VS Millionairos FC
DESCRIPTION: Location: Skyline Indoor / Whole Facility
DTSTART:20230125T043500Z
DTEND:20230125T052000Z
END:VEVENT
END:VCALENDAR
