BEGIN:VCALENDAR
VERSION:2.0
PRODID:-//SportsPilot + Skyline Soccer Association/
METHOD:PUBLISH
BEGIN:VEVENT
UID:2010001
DTSTAMP:20260422T234300Z
SUMMARY: Game:2010001: Kloppin' Cheeks VS SEXY AF
DESCRIPTION: Location: Skyline Indoor / Whole Facility
DTSTART:20230119T030000Z
DTEND:20230119T034500Z
END:VEVENT
BEGIN:VEVENT
UID:2010005
DTSTAMP:20260422T234300Z
SUMMARY: Game:2010005: 51 Shades of Grey VS Kloppin' Cheeks
DESCRIPTION: Location: Skyline Indoor / Whole Facility
DTSTART:20230126T034500Z
DTEND:20230126T043000Z
END:VEVENT
BEGIN:VEVENT
UID:2010010
DTSTAMP:20260422T234300Z
SUMMARY: Game:2010010: The Reapers  VS Kloppin' Cheeks
DESCRIPTION: Location: Skyline Indoor / Whole Facility
DTSTART:20230209T030000Z
DTEND:20230209T034500Z
END:VEVENT
BEGIN:VEVENT
UID:2010015
DTSTAMP:20260422T234300Z
SUMMARY: Game:2010015: Taqueros FC VS Kloppin' Cheeks
DESCRIPTION: Location: Skyline Indoor / Whole Facility
DTSTART:20230216T043000Z
DTEND:20230216T051500Z
END:VEVENT
BEGIN:VEVENT
UID:2010018
DTSTAMP:20260422T234300Z
SUMMARY: Game:2010018: Kloppin' Cheeks VS Wash Park Pack
DESCRIPTION: Location: Skyline Indoor / Whole Facility
DTSTART:20230223T043000Z
DTEND:20230223T051500Z
END:VEVENT
BEGIN:VEVENT
UID:2010020
DTSTAMP:20260422T234300Z
SUMMARY: Game:2010020: Toddlers & Tiaras VS Kloppin' Cheeks
DESCRIPTION: Location: Skyline Indoor / Whole Facility
DTSTART:20230302T034500Z
DTEND:20230302T043000Z
END:VEVENT
END:VCALENDAR
