BEGIN:VCALENDAR
VERSION:2.0
PRODID:-//SportsPilot + Skyline Soccer Association/
METHOD:PUBLISH
BEGIN:VEVENT
UID:2010006
DTSTAMP:20260422T234300Z
SUMMARY: Game:2010006: The Reapers  VS Toddlers & Tiaras
DESCRIPTION: Location: Skyline Indoor / Whole Facility
DTSTART:20230126T043000Z
DTEND:20230126T051500Z
END:VEVENT
BEGIN:VEVENT
UID:2010008
DTSTAMP:20260422T234300Z
SUMMARY: Game:2010008: The Reapers  VS Taqueros FC
DESCRIPTION: Location: Skyline Indoor / Whole Facility
DTSTART:20230202T034500Z
DTEND:20230202T043000Z
END:VEVENT
BEGIN:VEVENT
UID:2010010
DTSTAMP:20260422T234300Z
SUMMARY: Game:2010010: The Reapers  VS Kloppin' Cheeks
DESCRIPTION: Location: Skyline Indoor / Whole Facility
DTSTART:20230209T030000Z
DTEND:20230209T034500Z
END:VEVENT
BEGIN:VEVENT
UID:2010013
DTSTAMP:20260422T234300Z
SUMMARY: Game:2010013: 51 Shades of Grey VS The Reapers 
DESCRIPTION: Location: Skyline Indoor / Whole Facility
DTSTART:20230216T030000Z
DTEND:20230216T034500Z
END:VEVENT
BEGIN:VEVENT
UID:2010017
DTSTAMP:20260422T234300Z
SUMMARY: Game:2010017: SEXY AF VS The Reapers 
DESCRIPTION: Location: Skyline Indoor / Whole Facility
DTSTART:20230223T034500Z
DTEND:20230223T043000Z
END:VEVENT
BEGIN:VEVENT
UID:2010019
DTSTAMP:20260422T234300Z
SUMMARY: Game:2010019: Wash Park Pack VS The Reapers 
DESCRIPTION: Location: Skyline Indoor / Whole Facility
DTSTART:20230302T030000Z
DTEND:20230302T034500Z
END:VEVENT
END:VCALENDAR
