BEGIN:VCALENDAR
VERSION:2.0
PRODID:-//SportsPilot + Skyline Soccer Association/
METHOD:PUBLISH
BEGIN:VEVENT
UID:2010002
DTSTAMP:20260422T235200Z
SUMMARY: Game:2010002: Taqueros FC VS Wash Park Pack
DESCRIPTION: Location: Skyline Indoor / Whole Facility
DTSTART:20230119T034500Z
DTEND:20230119T043000Z
END:VEVENT
BEGIN:VEVENT
UID:2010004
DTSTAMP:20260422T235200Z
SUMMARY: Game:2010004: SEXY AF VS Wash Park Pack
DESCRIPTION: Location: Skyline Indoor / Whole Facility
DTSTART:20230126T030000Z
DTEND:20230126T034500Z
END:VEVENT
BEGIN:VEVENT
UID:2010009
DTSTAMP:20260422T235200Z
SUMMARY: Game:2010009: Wash Park Pack VS Toddlers & Tiaras
DESCRIPTION: Location: Skyline Indoor / Whole Facility
DTSTART:20230202T043000Z
DTEND:20230202T051500Z
END:VEVENT
BEGIN:VEVENT
UID:2010011
DTSTAMP:20260422T235200Z
SUMMARY: Game:2010011: Wash Park Pack VS 51 Shades of Grey
DESCRIPTION: Location: Skyline Indoor / Whole Facility
DTSTART:20230209T034500Z
DTEND:20230209T043000Z
END:VEVENT
BEGIN:VEVENT
UID:2010018
DTSTAMP:20260422T235200Z
SUMMARY: Game:2010018: Kloppin' Cheeks VS Wash Park Pack
DESCRIPTION: Location: Skyline Indoor / Whole Facility
DTSTART:20230223T043000Z
DTEND:20230223T051500Z
END:VEVENT
BEGIN:VEVENT
UID:2010019
DTSTAMP:20260422T235200Z
SUMMARY: Game:2010019: Wash Park Pack VS The Reapers 
DESCRIPTION: Location: Skyline Indoor / Whole Facility
DTSTART:20230302T030000Z
DTEND:20230302T034500Z
END:VEVENT
END:VCALENDAR
